BEGIN:VCALENDAR
VERSION:2.0
PRODID:-//L&#039;Église Unie du Canada - ECPv6.15.20//NONSGML v1.0//EN
CALSCALE:GREGORIAN
METHOD:PUBLISH
X-ORIGINAL-URL:https://egliseunie.ca
X-WR-CALDESC:Évènements pour L&#039;Église Unie du Canada
REFRESH-INTERVAL;VALUE=DURATION:PT1H
X-Robots-Tag:noindex
X-PUBLISHED-TTL:PT1H
BEGIN:VTIMEZONE
TZID:America/Toronto
BEGIN:DAYLIGHT
TZOFFSETFROM:-0500
TZOFFSETTO:-0400
TZNAME:EDT
DTSTART:20190310T070000
END:DAYLIGHT
BEGIN:STANDARD
TZOFFSETFROM:-0400
TZOFFSETTO:-0500
TZNAME:EST
DTSTART:20191103T060000
END:STANDARD
BEGIN:DAYLIGHT
TZOFFSETFROM:-0500
TZOFFSETTO:-0400
TZNAME:EDT
DTSTART:20200308T070000
END:DAYLIGHT
BEGIN:STANDARD
TZOFFSETFROM:-0400
TZOFFSETTO:-0500
TZNAME:EST
DTSTART:20201101T060000
END:STANDARD
BEGIN:DAYLIGHT
TZOFFSETFROM:-0500
TZOFFSETTO:-0400
TZNAME:EDT
DTSTART:20210314T070000
END:DAYLIGHT
BEGIN:STANDARD
TZOFFSETFROM:-0400
TZOFFSETTO:-0500
TZNAME:EST
DTSTART:20211107T060000
END:STANDARD
END:VTIMEZONE
BEGIN:VEVENT
DTSTART;TZID=America/Toronto:20200419T133000
DTEND;TZID=America/Toronto:20200419T143000
DTSTAMP:20260425T215929
CREATED:20200417T185144Z
LAST-MODIFIED:20200417T190131Z
UID:10001634-1587303000-1587306600@egliseunie.ca
SUMMARY:Montréal : Invitation à la célébration du dimanche en ligne
DESCRIPTION:La communauté chrétienne francophone de Mount Royal United Church (MRUC) vous invite à vivre l’expérience d’une célébration de culte de dimanche en ligne\, dans le confort de votre salon. \n  \nSi vous n’avez jamais utilisé Zoom\, prière de le télécharger (quelques minutes) pour avoir accès à la salle virtuelle. \n  \nNous vous conseillons d’activer le système plus tôt de façon à accéder à la salle à 13h15.\nPour participer à la réunion Zoom\, cliquer sur le lien ci-après et suivez ensuite les instructions.\nhttps://zoom.us/j/513976670 \nSi le lien ne s’ouvre pas\, copier le et l’ouvrir à partir de l’application Google. \nUtiliser le numero ci-après si vous choisissez de vous joindre au groupe par voie téléphonique:\n+1 438 809 7799 Canada \nEntrer ensuite le numéro ID de la réunion qui est le 513 976 670.\nEn communion de prières\,\nFrère Prosper Bitchoka\nMarie Claude Manga\, pasteure
URL:https://egliseunie.ca/evenement/montreal-invitation-a-la-celebration-du-dimanche-en-ligne/
ATTACH;FMTTYPE=image/jpeg:https://egliseunie.ca/wp-content/uploads/bg_stained-glass-dove-e1613678005594.jpg
ORGANIZER;CN="Marie-Claude Manga%2C pasteure":MAILTO:mcmanga51@hotmail.com
END:VEVENT
BEGIN:VEVENT
DTSTART;TZID=America/Toronto:20200412T133000
DTEND;TZID=America/Toronto:20200412T143000
DTSTAMP:20260425T215929
CREATED:20200409T174704Z
LAST-MODIFIED:20200410T024723Z
UID:10001611-1586698200-1586701800@egliseunie.ca
SUMMARY:Montréal : Célébration de Pâques en ligne
DESCRIPTION:La communauté chrétienne de MRUC vous invite à célébrer la Pâques en ligne\, le dimanche 12 avril 2020 \n  \nPour y participer\, cliquer sur le lien ci-dessous et suivez les instructions. \nhttps://zoom.us/j/513976670 \n  \nSi le lien ne s’ouvre pas\, copier le et l’ouvrir à partir de l’application Google. \n  \nUtiliser le numero ci-après si vous choisissez de vous joindre au groupe par voie téléphonique : \n+1 438 809 7799 Canada \n  \nEntrer ensuite le numéro ID de la réunion qui est le 513 976 670. \n  \nFrère Prosper Bitchoka \nPasteure Marie-Claude Manga
URL:https://egliseunie.ca/evenement/montreal-celebration-de-paques-en-ligne/
ATTACH;FMTTYPE=image/jpeg:https://egliseunie.ca/wp-content/uploads/bg_stained-glass-dove-e1613678005594.jpg
ORGANIZER;CN="Marie-Claude Manga%2C pasteure":MAILTO:mcmanga51@hotmail.com
END:VEVENT
BEGIN:VEVENT
DTSTART;TZID=America/Toronto:20200405T133000
DTEND;TZID=America/Toronto:20200405T143000
DTSTAMP:20260425T215929
CREATED:20200403T175030Z
LAST-MODIFIED:20200403T175249Z
UID:10001605-1586093400-1586097000@egliseunie.ca
SUMMARY:Montréal : Célébration dominicale en ligne
DESCRIPTION:La communauté chrétienne francophone de Mount Royal United Church à Montréal vous invite à vivre l’expérience d’une célébration de culte de dimanche en ligne\, dans le confort de votre salon.\n  \nSi vous n’avez jamais utilisé Zoom\, prière de le télécharger (quelques minutes) pour avoir accès à la salle virtuelle.\n  \nNous vous conseillons d’activer le système plus tôt\, pour accéder à la salle à 13 h 15\nPour participer à la réunion Zoom\, cliquer sur le lien ci-après et suivez ensuite les instructions.\nhttps://zoom.us/j/513976670\n\nSi le lien ne s’ouvre pas\, copier le et l’ouvrir à partir de l’application Google.\n\nUtiliser le numero ci-après si vous choisissez de vous joindre au groupe par voie téléphonique : +1 438 809 7799 Canada \nEntrer ensuite le numéro ID de la réunion qui est le 513 976 670.\n\n\nEn communion de prières\,\n\nFrère Prosper Bitchoka\nPasteure Marie Claude Manga
URL:https://egliseunie.ca/evenement/montreal-celebration-dominicale-en-ligne/
ATTACH;FMTTYPE=image/jpeg:https://egliseunie.ca/wp-content/uploads/bg_stained-glass-dove-e1613678005594.jpg
ORGANIZER;CN="Marie-Claude Manga%2C pasteure":MAILTO:mcmanga51@hotmail.com
END:VEVENT
END:VCALENDAR