BEGIN:VCALENDAR
VERSION:2.0
PRODID:-//L&#039;Église Unie du Canada - ECPv6.15.20//NONSGML v1.0//EN
CALSCALE:GREGORIAN
METHOD:PUBLISH
X-WR-CALNAME:L&#039;Église Unie du Canada
X-ORIGINAL-URL:https://egliseunie.ca
X-WR-CALDESC:Évènements pour L&#039;Église Unie du Canada
REFRESH-INTERVAL;VALUE=DURATION:PT1H
X-Robots-Tag:noindex
X-PUBLISHED-TTL:PT1H
BEGIN:VTIMEZONE
TZID:America/Toronto
BEGIN:DAYLIGHT
TZOFFSETFROM:-0500
TZOFFSETTO:-0400
TZNAME:EDT
DTSTART:20190310T070000
END:DAYLIGHT
BEGIN:STANDARD
TZOFFSETFROM:-0400
TZOFFSETTO:-0500
TZNAME:EST
DTSTART:20191103T060000
END:STANDARD
BEGIN:DAYLIGHT
TZOFFSETFROM:-0500
TZOFFSETTO:-0400
TZNAME:EDT
DTSTART:20200308T070000
END:DAYLIGHT
BEGIN:STANDARD
TZOFFSETFROM:-0400
TZOFFSETTO:-0500
TZNAME:EST
DTSTART:20201101T060000
END:STANDARD
BEGIN:DAYLIGHT
TZOFFSETFROM:-0500
TZOFFSETTO:-0400
TZNAME:EDT
DTSTART:20210314T070000
END:DAYLIGHT
BEGIN:STANDARD
TZOFFSETFROM:-0400
TZOFFSETTO:-0500
TZNAME:EST
DTSTART:20211107T060000
END:STANDARD
END:VTIMEZONE
BEGIN:VEVENT
DTSTART;TZID=America/Toronto:20200923T200000
DTEND;TZID=America/Toronto:20200923T210000
DTSTAMP:20260422T065346
CREATED:20200914T204029Z
LAST-MODIFIED:20200914T204029Z
UID:10001716-1600891200-1600894800@egliseunie.ca
SUMMARY:Prières d’intercessions et Action de grâce – Toronto et Sherbrooke
DESCRIPTION:La Mission protestante francophone de Toronto conjointement avec Plymouth-Trinity vous invite à une heure de prières et Action de grâce chaque mercredi en ligne\, à partir de 20 h à 21 h. \nVous pourrez nous joindre de 20 h à 21 h (HAE). \nPar Zoom:https://zoom.us/j/98164891352 \nID de réunion : 981 6489 1352
URL:https://egliseunie.ca/evenement/prieres-dintercessions-et-action-de-grace-toronto-et-sherbrooke-2/
ATTACH;FMTTYPE=image/jpeg:https://egliseunie.ca/wp-content/uploads/Mission-protestante-francophone-de-Toronto-e1587092312893-1-1.jpg
ORGANIZER;CN="Pasteur Isaac Makarios Kamta":MAILTO:kamtarev@yahoo.fr
END:VEVENT
BEGIN:VEVENT
DTSTART;TZID=America/Toronto:20200921T200000
DTEND;TZID=America/Toronto:20200921T210000
DTSTAMP:20260422T065346
CREATED:20200914T203849Z
LAST-MODIFIED:20200916T184123Z
UID:10001714-1600718400-1600722000@egliseunie.ca
SUMMARY:La Mission protestante francophone de Toronto – Mariage chrétien
DESCRIPTION:La Mission protestante francophone de Toronto conjointement avec Plymouth-Trinity vous invite à participer à une série de discussions sur le mariage chrétien qui a lieu en ligne chaque lundi durant le mois d’août 2020. Vous pourrez nous joindre de 20 h à 21 h (HAE). \nPar Zoom: https://zoom.us/j/98164891352 \nID de réunion : 981 6489 1352
URL:https://egliseunie.ca/evenement/la-mission-protestante-francophone-de-toronto-education-chretienne-2/
ATTACH;FMTTYPE=image/jpeg:https://egliseunie.ca/wp-content/uploads/Mission-protestante-francophone-de-Toronto-e1587092312893-1-1.jpg
ORGANIZER;CN="Pasteur Isaac Makarios Kamta":MAILTO:kamtarev@yahoo.fr
END:VEVENT
BEGIN:VEVENT
DTSTART;TZID=America/Toronto:20200920T104500
DTEND;TZID=America/Toronto:20200920T120000
DTSTAMP:20260422T065346
CREATED:20200914T134046Z
LAST-MODIFIED:20200914T195903Z
UID:10001888-1600598700-1600603200@egliseunie.ca
SUMMARY:Sherbrooke : Culte bilingue en ligne – Plymouth-Trinity: Création 2
DESCRIPTION:Bienvenue à notre prochain culte bilingue en ligne (et par téléphone\, mais il y aura des frais interurbains). \nVeuillez noter que l’heure du culte sera 10 h 45 et vous pouvez commencer à vous connecter à partir de 10 h 30. \nPar Zoom : https://us02web.zoom.us/j/247428136?pwd=L0ZKQ3RGbmJaSkV0eVlzN3RkUkJqZz09/ \nou par telephone : \n+1 438 809 7799 Canada (Montreal) (avec frais d’interurbain) \n+1 647 558 0588 Canada (Toronto) (avec frais d’interurbain) \nIdentifiant de réunion: 247 428 136 \nMot de passe: 490671 \n\nExode 16:2-15 ; Psaume 105:1-6\, 37-45\nJonas 3:10 to 4:11 ; Psaume 145:1-8\nPhilippiens 1:21-30\nMatthieu 20:1-16
URL:https://egliseunie.ca/evenement/sherbrooke-culte-bilingue-en-ligne-plymouth-trinity/
ATTACH;FMTTYPE=image/jpeg:https://egliseunie.ca/wp-content/uploads/plymouth-trinity-sherbrooke-e1586453781597.jpg
END:VEVENT
BEGIN:VEVENT
DTSTART;TZID=America/Toronto:20200913T104500
DTEND;TZID=America/Toronto:20200913T120000
DTSTAMP:20260422T065346
CREATED:20200831T150746Z
LAST-MODIFIED:20200909T185200Z
UID:10001693-1599993900-1599998400@egliseunie.ca
SUMMARY:Sherbrooke : Culte bilingue en ligne - Plymouth-Trinity
DESCRIPTION:Bienvenue à notre prochain culte bilingue en ligne (et par téléphone\, mais il y aura des frais interurbains). \nVeuillez noter que l’heure du culte sera 10 h 45 et vous pouvez commencer à vous connecter à partir de 10 h 30. \nPar Zoom : https://us02web.zoom.us/j/8195717233?pwd=K1VBVFo1ZUZpMFpid3loc0c2Si9uQT09 \nou par telephone : \n+1 438 809 7799 Canada (Montreal) (avec frais d’interurbain) \n+1 647 558 0588 Canada (Toronto) (avec frais d’interurbain) \nIdentifiant de réunion: 247 428 136 \nCode de passe: 490671
URL:https://egliseunie.ca/evenement/sherbrooke-14e-dimanche-apres-la-pentecote/
ATTACH;FMTTYPE=image/jpeg:https://egliseunie.ca/wp-content/uploads/plymouth-trinity-sherbrooke-e1586453781597.jpg
END:VEVENT
END:VCALENDAR