BEGIN:VCALENDAR
VERSION:2.0
PRODID:-//L&#039;Église Unie du Canada - ECPv6.15.20//NONSGML v1.0//EN
CALSCALE:GREGORIAN
METHOD:PUBLISH
X-WR-CALNAME:L&#039;Église Unie du Canada
X-ORIGINAL-URL:https://egliseunie.ca
X-WR-CALDESC:Évènements pour L&#039;Église Unie du Canada
REFRESH-INTERVAL;VALUE=DURATION:PT1H
X-Robots-Tag:noindex
X-PUBLISHED-TTL:PT1H
BEGIN:VTIMEZONE
TZID:America/Toronto
BEGIN:DAYLIGHT
TZOFFSETFROM:-0500
TZOFFSETTO:-0400
TZNAME:EDT
DTSTART:20210314T070000
END:DAYLIGHT
BEGIN:STANDARD
TZOFFSETFROM:-0400
TZOFFSETTO:-0500
TZNAME:EST
DTSTART:20211107T060000
END:STANDARD
BEGIN:DAYLIGHT
TZOFFSETFROM:-0500
TZOFFSETTO:-0400
TZNAME:EDT
DTSTART:20220313T070000
END:DAYLIGHT
BEGIN:STANDARD
TZOFFSETFROM:-0400
TZOFFSETTO:-0500
TZNAME:EST
DTSTART:20221106T060000
END:STANDARD
BEGIN:DAYLIGHT
TZOFFSETFROM:-0500
TZOFFSETTO:-0400
TZNAME:EDT
DTSTART:20230312T070000
END:DAYLIGHT
BEGIN:STANDARD
TZOFFSETFROM:-0400
TZOFFSETTO:-0500
TZNAME:EST
DTSTART:20231105T060000
END:STANDARD
END:VTIMEZONE
BEGIN:VEVENT
DTSTART;TZID=America/Toronto:20220814T110000
DTEND;TZID=America/Toronto:20220814T143000
DTSTAMP:20260422T111023
CREATED:20220725T134453Z
LAST-MODIFIED:20220725T134453Z
UID:10002944-1660474800-1660487400@egliseunie.ca
SUMMARY:Belle-Rivière : Pique-nique et épluchette de blé d'Inde
DESCRIPTION:Le pique-nique et épluchette de blé d’Inde aura lieu à Belle-Rivière le 14 août de 11 h à 14 h 30. Apportez votre dîner et le blé d’Inde vous sera servi sur place. Après le repas\, il y aura un culte vers 13 h 30 où toutes les paroisses francophones sont invitées. \n  \n7951\, rue de Belle-Rivière \nMirabel (Sainte-Scholastique)\, QC\, J7N 2V8
URL:https://egliseunie.ca/evenement/belle-riviere-pique-nique-et-epluchette-de-ble-dinde/
ATTACH;FMTTYPE=image/jpeg:https://egliseunie.ca/wp-content/uploads/book-g5ceea776c_1920-e1658756656530.jpg
ORGANIZER;CN="Pasteur Pierre-Paul Lafond":MAILTO:px2lafond@gmail.com
END:VEVENT
BEGIN:VEVENT
DTSTART;TZID=America/Toronto:20220821T100000
DTEND;TZID=America/Toronto:20220821T120000
DTSTAMP:20260422T111023
CREATED:20220819T144728Z
LAST-MODIFIED:20220819T144728Z
UID:10002982-1661076000-1661083200@egliseunie.ca
SUMMARY:Célébration liturgique avec la Mission protestante francophone de Toronto
DESCRIPTION:La Mission protestante francophone de Toronto vous invite à participer à la célébration liturgique en ligne chaque dimanche pour la durée de la pandémie. Vous pourrez nous joindre dès 10 h. \n  \nHoraire : Culte de dimanche à 10 h avec les enfants et à 10 h 30 avec les adultes \n  \nPar Zoom: https://zoom.us/j/91952110245 \nID de réunion : 919 5211 0245 \nCode secret : 309807
URL:https://egliseunie.ca/evenement/celebration-liturgique-avec-la-mission-protestante-francophone-de-toronto-93/2022-08-21/
ATTACH;FMTTYPE=image/jpeg:https://egliseunie.ca/wp-content/uploads/Mission-protestante-francophone-de-Toronto-e1587092312893-1-e1613677669461.jpg
ORGANIZER;CN="Pasteur Isaac Makarios Kamta":MAILTO:kamtarev@yahoo.fr
END:VEVENT
BEGIN:VEVENT
DTSTART;TZID=America/Toronto:20220821T103000
DTEND;TZID=America/Toronto:20220821T113000
DTSTAMP:20260422T111023
CREATED:20220817T135018Z
LAST-MODIFIED:20220817T135018Z
UID:10002952-1661077800-1661081400@egliseunie.ca
SUMMARY:Église Unie Saint-Jean – culte dominical
DESCRIPTION:Venez célébrez avec nous – à 10 h 30. Tous ceux et celles qui le désirent\, d’où qu’ils viennent\, peuvent y assister; il n’y a devant Dieu ni visiteur ni étranger. \n  \nÉglise Unie Saint-Jean\n110\, rue Sainte-Catherine Est Montréal\, Québec\, H2X 1K7\n(Métro Saint-Laurent ou Berri-UQAM)
URL:https://egliseunie.ca/evenement/eglise-unie-saint-jean-culte-dominical-5/2022-08-21/
ATTACH;FMTTYPE=image/jpeg:https://egliseunie.ca/wp-content/uploads/2017/03/saint-jean-carré.jpg
ORGANIZER;CN="%C3%89glise Unie Saint-Jean":MAILTO:pasteur@egliseuniesaintjean.org
END:VEVENT
BEGIN:VEVENT
DTSTART;TZID=America/Toronto:20220821T103000
DTEND;TZID=America/Toronto:20220821T113000
DTSTAMP:20260422T111023
CREATED:20220817T135236Z
LAST-MODIFIED:20220817T135236Z
UID:10002959-1661077800-1661081400@egliseunie.ca
SUMMARY:Église Unie de Sainte-Adèle
DESCRIPTION:Les célébrations dominicales ont recommencé! Tous les dimanches à 10 h 30. Bienvenue à tous et à toutes. \n1300 ch. du Chantecler\nSainte-Adèle\, QC J8B 2Y3\n(450) 512-8007 \nwww.egliseuniedesteadele.com
URL:https://egliseunie.ca/evenement/eglise-unie-de-sainte-adele-20/2022-08-21/
ATTACH;FMTTYPE=image/jpeg:https://egliseunie.ca/wp-content/uploads/2015/01/Ste-Adèle.jpg
ORGANIZER;CN="%C3%89glise Unie de Sainte-Adele":MAILTO:eglise.ste.adele@gmail.com
END:VEVENT
BEGIN:VEVENT
DTSTART;TZID=America/Toronto:20220821T104500
DTEND;TZID=America/Toronto:20220821T114500
DTSTAMP:20260422T111023
CREATED:20220817T134512Z
LAST-MODIFIED:20220817T134512Z
UID:10002945-1661078700-1661082300@egliseunie.ca
SUMMARY:Sherbrooke : culte dominical
DESCRIPTION:Joignez-vous à nous à 10h45 via Zoom : \nhttps://us02web.zoom.us/j/247428136?pwd=L0ZKQ3RGbmJaSkV0eVlzN3RkUkJqZz09 \nou par téléphone : \n+1 438 809 7799 Canada (Montréal) (avec frais interurbains) \n+1 647 558 0588 Canada (Toronto) (avec frais interurbains) \nIdentifiant de réunion : 247 428 136 \nCode de passe : 490671 \nMerci de signer notre pétition en soutien à la famille Rodriguez-Flores\, qui habite notre édifice depuis le 8 novembre. Voir la section « Nouvelles » pour de plus amples renseignements.
URL:https://egliseunie.ca/evenement/sherbrooke-culte-dominical/2022-08-21/
ATTACH;FMTTYPE=image/jpeg:https://egliseunie.ca/wp-content/uploads/plymouth-trinity-sherbrooke-e1586453781597.jpg
ORGANIZER;CN="Pasteur Samuel V Dansokho":MAILTO:svdansokho.ptucc@gmail.com
END:VEVENT
BEGIN:VEVENT
DTSTART;TZID=America/Toronto:20220821T110000
DTEND;TZID=America/Toronto:20220821T120000
DTSTAMP:20260422T111023
CREATED:20220819T151959Z
LAST-MODIFIED:20220819T151959Z
UID:10002989-1661079600-1661083200@egliseunie.ca
SUMMARY:Ottawa : Célébration en ligne avec l’Église Unie Saint-Marc
DESCRIPTION:L’Église Unie Saint-Marc vous invite à participer à sa célébration liturgique dominicale en ligne\, avec prédication et moments des enfants. \nVoici le lien pour accéder à la célébration : https://zoom.us/j/697267190 \nID de la réunion : 697 267 190
URL:https://egliseunie.ca/evenement/ottawa-celebration-en-ligne-avec-leglise-unie-saint-marc-93/2022-08-21/
ATTACH;FMTTYPE=image/jpeg:https://egliseunie.ca/wp-content/uploads/vitrail-Nicole-Beaudry.jpg
ORGANIZER;CN="Pasteur Kofi Akoussah":MAILTO:iakoussah@gmail.com
END:VEVENT
BEGIN:VEVENT
DTSTART;TZID=America/Toronto:20220821T133000
DTEND;TZID=America/Toronto:20220821T143000
DTSTAMP:20260422T111023
CREATED:20220819T152149Z
LAST-MODIFIED:20220819T152149Z
UID:10002996-1661088600-1661092200@egliseunie.ca
SUMMARY:Célébration du dimanche en ligne – Église Unie Mont Royal
DESCRIPTION:La communauté chrétienne francophone de Mount Royal United Church (MRUC) vous invite pour le culte de dimanche à 13 h 30. Nous vous prions de vous connecter à partir de 13 h 15. \nPour vous connecter\, cliquer sur le lien ci-dessous et suivre les instructions. \nhttps://us02web.zoom.us/j/81058120014\nID de réunion : 810 5812 0014 \nPour participer à partir de votre cellulaire\, il suffit de composer l’un des numéros ci-après (selon votre région) et suivre les instructions. \n+1 204 272 7920 Canada\n+1 438 809 7799 Canada (Montréal et les environs)\n+1 587 328 1099 Canada\n+1 647 374 4685 Canada\n+1 647 558 0588 Canada\n+1 778 907 2071 Canada \nID de réunion : 810 5812 0014 \nEn communion de prières\,\nFrère Prosper Bitchoka\nMarie Claude Manga\, pasteure (450) 545-8015
URL:https://egliseunie.ca/evenement/celebration-du-dimanche-en-ligne-eglise-unie-mont-royal-36/2022-08-21/
ATTACH;FMTTYPE=image/jpeg:https://egliseunie.ca/wp-content/uploads/bg_stained-glass-dove-e1613678005594.jpg
ORGANIZER;CN="Marie-Claude Manga%2C pasteure":MAILTO:mcmanga51@hotmail.com
END:VEVENT
BEGIN:VEVENT
DTSTART;TZID=America/Toronto:20220821T190000
DTEND;TZID=America/Toronto:20220821T203000
DTSTAMP:20260422T111023
CREATED:20220817T135539Z
LAST-MODIFIED:20220817T135539Z
UID:10002966-1661108400-1661113800@egliseunie.ca
SUMMARY:Célébration en direct avec l’Église Sainte-Claire
DESCRIPTION:L’Église Sainte-Claire est une paroisse francophone exclusivement en ligne. Ensemble nous tenterons d’explorer notre foi et notre spiritualité d’une manière interactive et sans aucune prétention. \nPas de code d’accès. Toutes et tous sont invité.e.s. \nSur Zoom : https://us02web.zoom.us/j/81181273557 (numéro d’identification: 811 8127 3557) ; en diffusion simultanée sur YouTube.
URL:https://egliseunie.ca/evenement/celebration-en-direct-avec-leglise-sainte-claire-87/2022-08-21/
ATTACH;FMTTYPE=image/jpeg:https://egliseunie.ca/wp-content/uploads/sunrise-sky-blue-sunlight-67832-e1589475909464.jpeg
ORGANIZER;CN="Pasteur St%C3%A9phane Vermette":MAILTO:revverm@rogers.com
END:VEVENT
BEGIN:VEVENT
DTSTART;TZID=America/Toronto:20220824T193000
DTEND;TZID=America/Toronto:20220824T203000
DTSTAMP:20260422T111023
CREATED:20220822T143213Z
LAST-MODIFIED:20221017T210809Z
UID:10003018-1661369400-1661373000@egliseunie.ca
SUMMARY:Montréal : Étude biblique et prière d'intercession
DESCRIPTION:La communauté chrétienne francophone de Mount Royal United Church (MRUC) vous invite à une soirée d’étude biblique et de prière d’intercession qui a lieu chaque mercredi à 19 h 30. Si vous n’avez jamais utilisé Zoom\, prière de le télécharger (quelques minutes) pour avoir accès à la salle virtuelle. Nous vous conseillons d’activer le système plus tôt de façon à accéder à la salle à 19 h. \nPour vous connecter\, cliquer sur le lien ci-dessous et suivre les instructions. \nhttps://us02web.zoom.us/j/81058120014ID de réunion : 810 5812 0014 \nPour participer à partir de votre cellulaire\, il suffit de composer l’un des numéros ci-après (selon votre location) et suivre les instructions. \n+1 204 272 7920 Canada+1 438 809 7799 Canada (Montréal et les environs)+1 587 328 1099 Canada+1 647 374 4685 Canada+1 647 558 0588 Canada+1 778 907 2071 Canada \nID de réunion : 810 5812 0014 \nEn communion de prières\,Frère Prosper BitchokaMarie Claude Manga\, pasteure (450) 545-8015
URL:https://egliseunie.ca/evenement/montreal-etude-biblique-et-priere-dintercession/2022-08-24/
ATTACH;FMTTYPE=image/jpeg:https://egliseunie.ca/wp-content/uploads/Bible-study-e1606754927735.jpg
ORGANIZER;CN="Marie-Claude Manga%2C pasteure":MAILTO:mcmanga51@hotmail.com
END:VEVENT
BEGIN:VEVENT
DTSTART;TZID=America/Toronto:20220828T100000
DTEND;TZID=America/Toronto:20220828T120000
DTSTAMP:20260422T111023
CREATED:20220819T144728Z
LAST-MODIFIED:20220819T144728Z
UID:10002983-1661680800-1661688000@egliseunie.ca
SUMMARY:Célébration liturgique avec la Mission protestante francophone de Toronto
DESCRIPTION:La Mission protestante francophone de Toronto vous invite à participer à la célébration liturgique en ligne chaque dimanche pour la durée de la pandémie. Vous pourrez nous joindre dès 10 h. \n  \nHoraire : Culte de dimanche à 10 h avec les enfants et à 10 h 30 avec les adultes \n  \nPar Zoom: https://zoom.us/j/91952110245 \nID de réunion : 919 5211 0245 \nCode secret : 309807
URL:https://egliseunie.ca/evenement/celebration-liturgique-avec-la-mission-protestante-francophone-de-toronto-93/2022-08-28/
ATTACH;FMTTYPE=image/jpeg:https://egliseunie.ca/wp-content/uploads/Mission-protestante-francophone-de-Toronto-e1587092312893-1-e1613677669461.jpg
ORGANIZER;CN="Pasteur Isaac Makarios Kamta":MAILTO:kamtarev@yahoo.fr
END:VEVENT
BEGIN:VEVENT
DTSTART;TZID=America/Toronto:20220828T103000
DTEND;TZID=America/Toronto:20220828T113000
DTSTAMP:20260422T111023
CREATED:20220817T135018Z
LAST-MODIFIED:20220817T135018Z
UID:10002953-1661682600-1661686200@egliseunie.ca
SUMMARY:Église Unie Saint-Jean – culte dominical
DESCRIPTION:Venez célébrez avec nous – à 10 h 30. Tous ceux et celles qui le désirent\, d’où qu’ils viennent\, peuvent y assister; il n’y a devant Dieu ni visiteur ni étranger. \n  \nÉglise Unie Saint-Jean\n110\, rue Sainte-Catherine Est Montréal\, Québec\, H2X 1K7\n(Métro Saint-Laurent ou Berri-UQAM)
URL:https://egliseunie.ca/evenement/eglise-unie-saint-jean-culte-dominical-5/2022-08-28/
ATTACH;FMTTYPE=image/jpeg:https://egliseunie.ca/wp-content/uploads/2017/03/saint-jean-carré.jpg
ORGANIZER;CN="%C3%89glise Unie Saint-Jean":MAILTO:pasteur@egliseuniesaintjean.org
END:VEVENT
BEGIN:VEVENT
DTSTART;TZID=America/Toronto:20220828T103000
DTEND;TZID=America/Toronto:20220828T113000
DTSTAMP:20260422T111023
CREATED:20220817T135236Z
LAST-MODIFIED:20220817T135236Z
UID:10002960-1661682600-1661686200@egliseunie.ca
SUMMARY:Église Unie de Sainte-Adèle
DESCRIPTION:Les célébrations dominicales ont recommencé! Tous les dimanches à 10 h 30. Bienvenue à tous et à toutes. \n1300 ch. du Chantecler\nSainte-Adèle\, QC J8B 2Y3\n(450) 512-8007 \nwww.egliseuniedesteadele.com
URL:https://egliseunie.ca/evenement/eglise-unie-de-sainte-adele-20/2022-08-28/
ATTACH;FMTTYPE=image/jpeg:https://egliseunie.ca/wp-content/uploads/2015/01/Ste-Adèle.jpg
ORGANIZER;CN="%C3%89glise Unie de Sainte-Adele":MAILTO:eglise.ste.adele@gmail.com
END:VEVENT
BEGIN:VEVENT
DTSTART;TZID=America/Toronto:20220828T104500
DTEND;TZID=America/Toronto:20220828T114500
DTSTAMP:20260422T111023
CREATED:20220817T134512Z
LAST-MODIFIED:20220817T134512Z
UID:10002946-1661683500-1661687100@egliseunie.ca
SUMMARY:Sherbrooke : culte dominical
DESCRIPTION:Joignez-vous à nous à 10h45 via Zoom : \nhttps://us02web.zoom.us/j/247428136?pwd=L0ZKQ3RGbmJaSkV0eVlzN3RkUkJqZz09 \nou par téléphone : \n+1 438 809 7799 Canada (Montréal) (avec frais interurbains) \n+1 647 558 0588 Canada (Toronto) (avec frais interurbains) \nIdentifiant de réunion : 247 428 136 \nCode de passe : 490671 \nMerci de signer notre pétition en soutien à la famille Rodriguez-Flores\, qui habite notre édifice depuis le 8 novembre. Voir la section « Nouvelles » pour de plus amples renseignements.
URL:https://egliseunie.ca/evenement/sherbrooke-culte-dominical/2022-08-28/
ATTACH;FMTTYPE=image/jpeg:https://egliseunie.ca/wp-content/uploads/plymouth-trinity-sherbrooke-e1586453781597.jpg
ORGANIZER;CN="Pasteur Samuel V Dansokho":MAILTO:svdansokho.ptucc@gmail.com
END:VEVENT
BEGIN:VEVENT
DTSTART;TZID=America/Toronto:20220828T110000
DTEND;TZID=America/Toronto:20220828T120000
DTSTAMP:20260422T111023
CREATED:20220819T151959Z
LAST-MODIFIED:20220819T151959Z
UID:10002990-1661684400-1661688000@egliseunie.ca
SUMMARY:Ottawa : Célébration en ligne avec l’Église Unie Saint-Marc
DESCRIPTION:L’Église Unie Saint-Marc vous invite à participer à sa célébration liturgique dominicale en ligne\, avec prédication et moments des enfants. \nVoici le lien pour accéder à la célébration : https://zoom.us/j/697267190 \nID de la réunion : 697 267 190
URL:https://egliseunie.ca/evenement/ottawa-celebration-en-ligne-avec-leglise-unie-saint-marc-93/2022-08-28/
ATTACH;FMTTYPE=image/jpeg:https://egliseunie.ca/wp-content/uploads/vitrail-Nicole-Beaudry.jpg
ORGANIZER;CN="Pasteur Kofi Akoussah":MAILTO:iakoussah@gmail.com
END:VEVENT
BEGIN:VEVENT
DTSTART;TZID=America/Toronto:20220828T133000
DTEND;TZID=America/Toronto:20220828T143000
DTSTAMP:20260422T111023
CREATED:20220819T152149Z
LAST-MODIFIED:20220819T152149Z
UID:10002997-1661693400-1661697000@egliseunie.ca
SUMMARY:Célébration du dimanche en ligne – Église Unie Mont Royal
DESCRIPTION:La communauté chrétienne francophone de Mount Royal United Church (MRUC) vous invite pour le culte de dimanche à 13 h 30. Nous vous prions de vous connecter à partir de 13 h 15. \nPour vous connecter\, cliquer sur le lien ci-dessous et suivre les instructions. \nhttps://us02web.zoom.us/j/81058120014\nID de réunion : 810 5812 0014 \nPour participer à partir de votre cellulaire\, il suffit de composer l’un des numéros ci-après (selon votre région) et suivre les instructions. \n+1 204 272 7920 Canada\n+1 438 809 7799 Canada (Montréal et les environs)\n+1 587 328 1099 Canada\n+1 647 374 4685 Canada\n+1 647 558 0588 Canada\n+1 778 907 2071 Canada \nID de réunion : 810 5812 0014 \nEn communion de prières\,\nFrère Prosper Bitchoka\nMarie Claude Manga\, pasteure (450) 545-8015
URL:https://egliseunie.ca/evenement/celebration-du-dimanche-en-ligne-eglise-unie-mont-royal-36/2022-08-28/
ATTACH;FMTTYPE=image/jpeg:https://egliseunie.ca/wp-content/uploads/bg_stained-glass-dove-e1613678005594.jpg
ORGANIZER;CN="Marie-Claude Manga%2C pasteure":MAILTO:mcmanga51@hotmail.com
END:VEVENT
BEGIN:VEVENT
DTSTART;TZID=America/Toronto:20220828T190000
DTEND;TZID=America/Toronto:20220828T203000
DTSTAMP:20260422T111023
CREATED:20220817T135539Z
LAST-MODIFIED:20220817T135539Z
UID:10002967-1661713200-1661718600@egliseunie.ca
SUMMARY:Célébration en direct avec l’Église Sainte-Claire
DESCRIPTION:L’Église Sainte-Claire est une paroisse francophone exclusivement en ligne. Ensemble nous tenterons d’explorer notre foi et notre spiritualité d’une manière interactive et sans aucune prétention. \nPas de code d’accès. Toutes et tous sont invité.e.s. \nSur Zoom : https://us02web.zoom.us/j/81181273557 (numéro d’identification: 811 8127 3557) ; en diffusion simultanée sur YouTube.
URL:https://egliseunie.ca/evenement/celebration-en-direct-avec-leglise-sainte-claire-87/2022-08-28/
ATTACH;FMTTYPE=image/jpeg:https://egliseunie.ca/wp-content/uploads/sunrise-sky-blue-sunlight-67832-e1589475909464.jpeg
ORGANIZER;CN="Pasteur St%C3%A9phane Vermette":MAILTO:revverm@rogers.com
END:VEVENT
BEGIN:VEVENT
DTSTART;TZID=America/Toronto:20220831T193000
DTEND;TZID=America/Toronto:20220831T203000
DTSTAMP:20260422T111023
CREATED:20220822T143213Z
LAST-MODIFIED:20221017T210809Z
UID:10003019-1661974200-1661977800@egliseunie.ca
SUMMARY:Montréal : Étude biblique et prière d'intercession
DESCRIPTION:La communauté chrétienne francophone de Mount Royal United Church (MRUC) vous invite à une soirée d’étude biblique et de prière d’intercession qui a lieu chaque mercredi à 19 h 30. Si vous n’avez jamais utilisé Zoom\, prière de le télécharger (quelques minutes) pour avoir accès à la salle virtuelle. Nous vous conseillons d’activer le système plus tôt de façon à accéder à la salle à 19 h. \nPour vous connecter\, cliquer sur le lien ci-dessous et suivre les instructions. \nhttps://us02web.zoom.us/j/81058120014ID de réunion : 810 5812 0014 \nPour participer à partir de votre cellulaire\, il suffit de composer l’un des numéros ci-après (selon votre location) et suivre les instructions. \n+1 204 272 7920 Canada+1 438 809 7799 Canada (Montréal et les environs)+1 587 328 1099 Canada+1 647 374 4685 Canada+1 647 558 0588 Canada+1 778 907 2071 Canada \nID de réunion : 810 5812 0014 \nEn communion de prières\,Frère Prosper BitchokaMarie Claude Manga\, pasteure (450) 545-8015
URL:https://egliseunie.ca/evenement/montreal-etude-biblique-et-priere-dintercession/2022-08-31/
ATTACH;FMTTYPE=image/jpeg:https://egliseunie.ca/wp-content/uploads/Bible-study-e1606754927735.jpg
ORGANIZER;CN="Marie-Claude Manga%2C pasteure":MAILTO:mcmanga51@hotmail.com
END:VEVENT
END:VCALENDAR