BEGIN:VCALENDAR
VERSION:2.0
PRODID:-//L&#039;Église Unie du Canada - ECPv6.15.20//NONSGML v1.0//EN
CALSCALE:GREGORIAN
METHOD:PUBLISH
X-WR-CALNAME:L&#039;Église Unie du Canada
X-ORIGINAL-URL:https://egliseunie.ca
X-WR-CALDESC:Évènements pour L&#039;Église Unie du Canada
REFRESH-INTERVAL;VALUE=DURATION:PT1H
X-Robots-Tag:noindex
X-PUBLISHED-TTL:PT1H
BEGIN:VTIMEZONE
TZID:America/Toronto
BEGIN:DAYLIGHT
TZOFFSETFROM:-0500
TZOFFSETTO:-0400
TZNAME:EDT
DTSTART:20190310T070000
END:DAYLIGHT
BEGIN:STANDARD
TZOFFSETFROM:-0400
TZOFFSETTO:-0500
TZNAME:EST
DTSTART:20191103T060000
END:STANDARD
BEGIN:DAYLIGHT
TZOFFSETFROM:-0500
TZOFFSETTO:-0400
TZNAME:EDT
DTSTART:20200308T070000
END:DAYLIGHT
BEGIN:STANDARD
TZOFFSETFROM:-0400
TZOFFSETTO:-0500
TZNAME:EST
DTSTART:20201101T060000
END:STANDARD
BEGIN:DAYLIGHT
TZOFFSETFROM:-0500
TZOFFSETTO:-0400
TZNAME:EDT
DTSTART:20210314T070000
END:DAYLIGHT
BEGIN:STANDARD
TZOFFSETFROM:-0400
TZOFFSETTO:-0500
TZNAME:EST
DTSTART:20211107T060000
END:STANDARD
END:VTIMEZONE
BEGIN:VEVENT
DTSTART;TZID=America/Toronto:20200329T100000
DTEND;TZID=America/Toronto:20200329T113000
DTSTAMP:20260424T051241
CREATED:20200325T212306Z
LAST-MODIFIED:20200325T212753Z
UID:10001595-1585476000-1585481400@egliseunie.ca
SUMMARY:Célébration liturgique en direct
DESCRIPTION:Dimanche prochain\, la pasteure Joëlle Leduc\, de l’Église Unie Sainte-Adèle\, animera une célébration en ligne. \nBienvenue à toutes et à tous… où que vous soyez ! \n10 h – Temps de fraternisation – apportez votre tasse de café ou de thé\, votre jus\, votre petit déjeuner. Nous prendrons du temps pour prendre des nouvelles des uns\, des unes et des autres \n10 h 30 – Culte \nPour vous joindre à nous sur Internet : \nhttps://zoom.us/j/371601329 \nID de réunion : 371 601 329 \nPar nous joindre par téléphone (audio seulement) \nComposez le\n+1 438 809 7799 (au Canada) suivi du numéro d’identification de la réunion : 371 601 329 et du # \nTrouvez votre numéro local :  https://zoom.us/u/ad68p081gM
URL:https://egliseunie.ca/evenement/celebration-liturgique-en-direct-2/
ATTACH;FMTTYPE=image/jpeg:https://egliseunie.ca/wp-content/uploads/landscape-1802337_640.jpg
END:VEVENT
BEGIN:VEVENT
DTSTART;TZID=America/Toronto:20200329T100000
DTEND;TZID=America/Toronto:20200329T120000
DTSTAMP:20260424T051241
CREATED:20200329T000318Z
LAST-MODIFIED:20200329T000318Z
UID:10001597-1585476000-1585483200@egliseunie.ca
SUMMARY:Célébration liturgique (de Toronto)
DESCRIPTION:La Mission protestante francophone de Toronto vous invite à une célébration liturgique le dimanche 29 mars 2020. \nLa célébration débutera à 10 h 30\, mais vous pourrez nous joindre dès 10 h. \nVoici le lien : https://zoom.us/j/631840481
URL:https://egliseunie.ca/evenement/celebration-liturgique-de-toronto/
ATTACH;FMTTYPE=image/jpeg:https://egliseunie.ca/wp-content/uploads/Mission-protestante-francophone-de-Toronto-e1587092312893.jpg
END:VEVENT
BEGIN:VEVENT
DTSTART;TZID=America/Toronto:20200329T110000
DTEND;TZID=America/Toronto:20200329T120000
DTSTAMP:20260424T051241
CREATED:20200325T032030Z
LAST-MODIFIED:20200325T032517Z
UID:10001594-1585479600-1585483200@egliseunie.ca
SUMMARY:Célébration liturgique en direct
DESCRIPTION:L’Église Unie Saint-Marc à Ottawa vous invite à participer à la célébration dominicale en direct ce dimanche 29 mars. La célébration sera diffusée par téléconférence Zoom. Vous pourrez y accéder en cliquant ce lien : https://zoom.us/j/697267190
URL:https://egliseunie.ca/evenement/celebration-liturgique-en-direct/
ATTACH;FMTTYPE=image/jpeg:https://egliseunie.ca/wp-content/uploads/lever-du-soleil-2020-e1585106366754.jpg
ORGANIZER;CN="Pasteur Kofi Akoussah":MAILTO:iakoussah@gmail.com
END:VEVENT
END:VCALENDAR