BEGIN:VCALENDAR
VERSION:2.0
PRODID:-//L&#039;Église Unie du Canada - ECPv6.15.20//NONSGML v1.0//EN
CALSCALE:GREGORIAN
METHOD:PUBLISH
X-ORIGINAL-URL:https://egliseunie.ca
X-WR-CALDESC:Évènements pour L&#039;Église Unie du Canada
REFRESH-INTERVAL;VALUE=DURATION:PT1H
X-Robots-Tag:noindex
X-PUBLISHED-TTL:PT1H
BEGIN:VTIMEZONE
TZID:America/Toronto
BEGIN:DAYLIGHT
TZOFFSETFROM:-0500
TZOFFSETTO:-0400
TZNAME:EDT
DTSTART:20200308T070000
END:DAYLIGHT
BEGIN:STANDARD
TZOFFSETFROM:-0400
TZOFFSETTO:-0500
TZNAME:EST
DTSTART:20201101T060000
END:STANDARD
BEGIN:DAYLIGHT
TZOFFSETFROM:-0500
TZOFFSETTO:-0400
TZNAME:EDT
DTSTART:20210314T070000
END:DAYLIGHT
BEGIN:STANDARD
TZOFFSETFROM:-0400
TZOFFSETTO:-0500
TZNAME:EST
DTSTART:20211107T060000
END:STANDARD
BEGIN:DAYLIGHT
TZOFFSETFROM:-0500
TZOFFSETTO:-0400
TZNAME:EDT
DTSTART:20220313T070000
END:DAYLIGHT
BEGIN:STANDARD
TZOFFSETFROM:-0400
TZOFFSETTO:-0500
TZNAME:EST
DTSTART:20221106T060000
END:STANDARD
END:VTIMEZONE
BEGIN:VEVENT
DTSTART;TZID=America/Toronto:20210227T090000
DTEND;TZID=America/Toronto:20210227T150000
DTSTAMP:20260423T194829
CREATED:20210211T142039Z
LAST-MODIFIED:20210211T145657Z
UID:10002184-1614416400-1614438000@egliseunie.ca
SUMMARY:L'assemblée générale annuelle de la Table des ministères en français
DESCRIPTION:Si vous êtes francophone ou francophile et impliqué dans le ministère de l’Église Unie du Canada à titre de membre\, de personne adhérante ou de pasteur.e\, vous êtes invité à vous joindre à nous pour connaître et sculpter le ministère francophone de notre Église! \n  \nNous aurons une présentation d’Adele Halliday au sujet du travail antiraciste proposé par l’Église Unie du Canada\, un aperçu du travail du Réseau œcuménique justice\, écologie et paix (ROJEP) et la présentation du plan de travail proposé pour les ministères en français en 2021. \n  \nVenez vous joindre à nous! \n  \nPour vous inscrire et recevoir le lien de participation Zoom\, cliquez ici. \n  \nOrdre du jour proposé pour l’AGA le 27 février 2021  \n 9 h 00 – 11 h 00 \n\nMots d’accueil\nReconnaissance du territoire\nCulte d’ouverture – prédication par Albertine\nParoles du modérateur et du secrétaire général\nAdoption de l’ordre du jour\nRapport annuel du responsable des ministères en français y inclus les rapports des comités (condensés)\n\n11 h 00 – 12 h 00 \n\nPrésentation par Adèle Halliday (Responsable du programme antiracisme et équité)\n\n12 h 00 – 13 h 00 \n\nPause dîner\n\n13 h 00 – 13 h 30 \n\nPrésentation du Réseau œcuménique justice\, écologie et paix (ROJEP)\n\n13 h 30 – 14 h 30 \n\n*Présentation et adoption du rapport du comité des nominations\n*Présentation et adoption du plan pour 2021\n*Présentation et adoption du budget pour 2021\n\n14 h 30 – 15 h 00 \nCélébrations des ministères : \n\nIn memoriam\nCélébrations des ministères\nCélébrations des anniversaires\, retraité(e)s…\n\n15 h 00 \n\nLevée de l’assemblée
URL:https://egliseunie.ca/evenement/lassemblee-generale-annuelle-de-la-table-des-ministeres-en-francais/
ATTACH;FMTTYPE=image/jpeg:https://egliseunie.ca/wp-content/uploads/MiF-logo-rouge-e1613052109424.jpg
ORGANIZER;CN="%C3%89glise Unie du Canada":MAILTO:info@egliseunie.ca
END:VEVENT
END:VCALENDAR